BEGIN:VCALENDAR
VERSION:2.0
PRODID:Frederick County Calendar Creator
METHOD:PUBLISH
BEGIN:VEVENT
DTSTAMP:20210724T003455
DTSTART:20210726T130000
DTEND:20210726T150000
SUMMARY:Community Policy and Management Team Meeting
DESCRIPTION:
X-ALT-DESC;FMTTYPE=text/html:
LOCATION:1st Floor Conference Room\, 107 N Kent St Winchester\, Virginia 22601
CLASS:PUBLIC
END:VEVENT
END:VCALENDAR
