BEGIN:VCALENDAR
VERSION:2.0
PRODID:Frederick County Calendar Creator
METHOD:PUBLISH
BEGIN:VEVENT
DTSTAMP:20210219T034911
DTSTART:20210222T130000
DTEND:20210222T150000
SUMMARY:Community Policy and Management Team Meeting
DESCRIPTION:
X-ALT-DESC;FMTTYPE=text/html:
LOCATION:Video Conference\, 
CLASS:PUBLIC
END:VEVENT
END:VCALENDAR
