BEGIN:VCALENDAR
VERSION:2.0
PRODID:Frederick County Calendar Creator
METHOD:PUBLISH
BEGIN:VEVENT
DTSTAMP:20201220T190315
DTSTART:20201221T130000
DTEND:20201221T140000
SUMMARY:Community Policy and Management Team Meeting
DESCRIPTION:<p> </p><p><a href="https://gcc02.safelinks.protection.outlook.com/ap/t-59584e83/?url=https%3A%2F%2Fteams.microsoft.com%2Fl%2Fmeetup-join%2F19%253a0713492cf46046359ee2a8b48c331ba8%2540thread.tacv2%2F1608505392854%3Fcontext%3D%257b%2522Tid%2522%253a%25220201b765-070d-4db0-8422-6cfc27f09889%2522%252c%2522Oid%2522%253a%252242b6db39-e772-4dc2-99ca-0698725ebae1%2522%257d&amp;data=04%7C01%7C%7Ca58fdb9864634b30b3fa08d8a53bb280%7C0201b765070d4db084226cfc27f09889%7C0%7C0%7C637441023093859955%7CUnknown%7CTWFpbGZsb3d8eyJWIjoiMC4wLjAwMDAiLCJQIjoiV2luMzIiLCJBTiI6Ik1haWwiLCJXVCI6Mn0%3D%7C1000&amp;sdata=UagR0KXEXvAdi8bafVI2C8epG5f%2FvkkI2i4ZKL9inao%3D&amp;reserved=0" target="_blank">Click here to join the meeting</a></p><p>&nbsp;</p><br>
X-ALT-DESC;FMTTYPE=text/html:<p> </p><p><a href="https://gcc02.safelinks.protection.outlook.com/ap/t-59584e83/?url=https%3A%2F%2Fteams.microsoft.com%2Fl%2Fmeetup-join%2F19%253a0713492cf46046359ee2a8b48c331ba8%2540thread.tacv2%2F1608505392854%3Fcontext%3D%257b%2522Tid%2522%253a%25220201b765-070d-4db0-8422-6cfc27f09889%2522%252c%2522Oid%2522%253a%252242b6db39-e772-4dc2-99ca-0698725ebae1%2522%257d&amp;data=04%7C01%7C%7Ca58fdb9864634b30b3fa08d8a53bb280%7C0201b765070d4db084226cfc27f09889%7C0%7C0%7C637441023093859955%7CUnknown%7CTWFpbGZsb3d8eyJWIjoiMC4wLjAwMDAiLCJQIjoiV2luMzIiLCJBTiI6Ik1haWwiLCJXVCI6Mn0%3D%7C1000&amp;sdata=UagR0KXEXvAdi8bafVI2C8epG5f%2FvkkI2i4ZKL9inao%3D&amp;reserved=0" target="_blank">Click here to join the meeting</a></p><p>&nbsp;</p><br>
LOCATION:Microsoft Teams Video Conference\, 
CLASS:PUBLIC
END:VEVENT
END:VCALENDAR
