BEGIN:VCALENDAR
VERSION:2.0
PRODID:Frederick County Calendar Creator
METHOD:PUBLISH
BEGIN:VEVENT
DTSTAMP:20190321T094956
DTSTART:20190325T123000
DTEND:20190325T155900
SUMMARY:Community Policy Management Team (CPMT)
DESCRIPTION:<br>
X-ALT-DESC;FMTTYPE=text/html:<br>
LOCATION:Purple Room\, 107 N. Kent St. Winchester\, Virginia 22601
CLASS:PUBLIC
END:VEVENT
END:VCALENDAR
